BEGIN:VCALENDAR
VERSION:2.0
PRODID:-//ChamberMaster//Event Calendar 2.0//EN
METHOD:PUBLISH
X-PUBLISHED-TTL:P3D
REFRESH-INTERVAL:P3D
CALSCALE:GREGORIAN
BEGIN:VEVENT
DTSTART:20180223T140000Z
DTEND:20180223T160000Z
X-MICROSOFT-CDO-ALLDAYEVENT:FALSE
SUMMARY:Social Media & Cyber Safety Seminar
DESCRIPTION:Social Media Safety presented by Leonard Chernisky\, Health and Training Specialist\, PA Department of Labor and Industry. \n\n \n\nThe purpose of this training is to provide online users with an understanding of what the dangers of using social media are as well as ways to protect yourself from those dangers. Upon completion of this program\, you will be able to: define what social \n\nmedia is\, \n\nunderstand the dangers of social media use\, understand some of the popular social \n\nmedia terminology\, understand ways to protect yourself when using the internet and social \n\nmedia sites and understand personal and professional implications of social media. \n\n \n\nCyber Safety presented by Tom McClain from the Tuscarora Intermediate Unit 11. \n\n \n\nThis session will provide an overview of the common online cyber attacks and\n\npreventative measures. Several tools/tool kits will be presented to help with staff training and best practices.
X-ALT-DESC;FMTTYPE=text/html:<span style="font-weight:bold\;language:en-US\;"><span style="font-family:bodoni mt\;"><span style="font-size:12.0pt\;">Social Media Safety </span></span></span><span style="language:en-US\;"><span style="font-family:bodoni mt\;"><span style="font-size:12.0pt\;">presented by </span></span></span><span style="language:en-US\;"><span style="font-family:bodoni mt\;"><span style="font-size:12.0pt\;">Leonard Chernisky\, Health and Training Specialist\, PA Department of Labor and Industry. </span></span></span><br />\n&nbsp\;<br />\n<span style="language:en-US\;"><span style="font-family:bodoni mt\;"><span style="font-size:12.0pt\;">The purpose of this training is to provide online users with an understanding of what the dangers of using social media are as well as ways to protect yourself from those dangers. Upon completion of this program\, you will be able to: define what social </span></span></span><br />\n<span style="language:en-US\;"><span style="font-family:bodoni mt\;"><span style="font-size:12.0pt\;">media is\, </span></span></span><br />\n<span style="language:en-US\;"><span style="font-family:bodoni mt\;"><span style="font-size:12.0pt\;">understand the dangers of social media use\, understand some of the popular social </span></span></span><br />\n<span style="language:en-US\;"><span style="font-family:bodoni mt\;"><span style="font-size:12.0pt\;">media terminology\, understand ways to protect yourself when using the internet and social </span></span></span><br />\n<span style="language:en-US\;"><span style="font-family:bodoni mt\;"><span style="font-size:12.0pt\;">media sites and understand personal and professional implications of social media. </span></span></span><br />\n&nbsp\;<br />\n<span style="font-weight:bold\;language:en-US\;"><span style="font-family:bodoni mt\;"><span style="font-size:12.0pt\;">Cyber Safety </span></span></span><span style="language:en-US\;"><span style="font-family:bodoni mt\;"><span style="font-size:12.0pt\;">presented by Tom McClain from the Tuscarora Intermediate Unit 11. </span></span></span><br />\n&nbsp\;<br />\n<span style="language:en-US\;"><span style="font-family:bodoni mt\;"><span style="font-size:12.0pt\;">This session will provide an overview of the common online cyber attacks and</span></span></span><br />\n<span style="language:en-US\;"><span style="font-family:bodoni mt\;"><span style="font-size:12.0pt\;">preventative measures. Several tools/tool kits will be presented to help with staff training and best practices. </span></span></span><br />\n&nbsp\;
LOCATION:Huntingdon County Career & Technology Center (11893 Technology Drive\, Mill Creek)
UID:e.2132.449
SEQUENCE:3
DTSTAMP:20260425T151520Z
URL:https://business.huntingdonchamber.com/events/details/social-media-cyber-safety-seminar-449
END:VEVENT

END:VCALENDAR
