BEGIN:VCALENDAR
VERSION:2.0
PRODID:-//ChamberMaster//Event Calendar 2.0//EN
METHOD:PUBLISH
X-PUBLISHED-TTL:P3D
REFRESH-INTERVAL:P3D
CALSCALE:GREGORIAN
BEGIN:VEVENT
DTSTART:20200304T133000Z
DTEND:20200304T160000Z
X-MICROSOFT-CDO-ALLDAYEVENT:FALSE
SUMMARY:Social Media Made Simple
DESCRIPTION:Social Media Made Simple\n\n\n\nAt this seminar you will learn:\n\nSimple and profitable Facebook and Instagram Ad Campaigns that anyone can do\n\nHow to create a results-driven plan and calendar to post content\n\nHow to get results with your social media content\, including video\n\n\n\nThis will be a workshop atmosphere\, so please bring a computer\, phone\, or at least a tablet and pen. We will be actively working on what content you can create for your advertising plan. \n\n\n\nPresented by: Rob Z\n\n\n\nRob Z is a social media marketer\, content creator\, and broadcasting professional with 20+ years of experience. Rob hosts 'The Rob Z show' on Mix 94.7 and his podcast 'Rob Z Radio'. He helps business owners leverage a proven\, results-driven social media strategy to generate leads\, add more clients and increase revenue.
X-ALT-DESC;FMTTYPE=text/html:<span style="font-size:14px\;"><strong>Social Media Made Simple</strong></span><br />\n<br />\nAt this seminar you will learn:<br />\nSimple and profitable Facebook and Instagram Ad Campaigns that anyone can do<br />\nHow to create a results-driven plan and calendar to post content<br />\nHow to get results with your social media content\, including video<br />\n<br />\nThis will be a workshop atmosphere\, so please bring a computer\, phone\, or at least a tablet and pen. We will be actively working on what content you can create for your advertising plan.&nbsp\;<br />\n<br />\n<strong>Presented by: Rob Z</strong><br />\n<br />\nRob Z is a social media marketer\, content creator\, and broadcasting professional with 20+ years of experience. Rob hosts &#39\;The Rob Z show&#39\; on Mix 94.7 and his podcast &#39\;Rob Z Radio&#39\;. He helps business owners leverage a proven\, results-driven social media strategy to generate leads\, add more clients and increase revenue.&nbsp\;
LOCATION:Comfort Inn 100 South 4th Street Huntingdon\, PA 16652
UID:e.2132.525
SEQUENCE:3
DTSTAMP:20260424T061933Z
URL:https://business.huntingdonchamber.com/events/details/social-media-made-simple-525
END:VEVENT

END:VCALENDAR
