BEGIN:VCALENDAR
VERSION:2.0
PRODID:-//ChamberMaster//Event Calendar 2.0//EN
METHOD:PUBLISH
X-PUBLISHED-TTL:P3D
REFRESH-INTERVAL:P3D
CALSCALE:GREGORIAN
BEGIN:VEVENT
DTSTART:20200123T210000Z
DTEND:20200123T220000Z
X-MICROSOFT-CDO-ALLDAYEVENT:FALSE
SUMMARY:South Africa Webinar
DESCRIPTION:Join us for a webinar about the September 13-20 South Africa Trip\n\n\n\nThursday\, January 23\, 2020 4:00 PM-5:00 PM America/New_York.\n\n \n\nhttps://centralholidays.my.webex.com/centralholidays.my\n\n\nMeeting number (access code): 622 560 371\n\nMeeting password: chtg\n\n\n\nJoin by phone\n\nTap to call from a mobile device \n\n+1-646-992-2010 United States Toll (New York City)\n\n\n\nJoin from video system or applicaiton\n\nDial 622560371@centralholidays.my.webex.com\n\nYou can also dial 173.243.2.68 and enter your meeting number (above) \n\n\n\nJoin using Microsoft Lync or Microsoft Skype for Business\n\nDial 622560371.centralholidays.my@lync.webex.com\n\n\n\nNeed helf? Go to http://help.webex.com
X-ALT-DESC;FMTTYPE=text/html:Join us for a webinar about the September 13-20 South Africa Trip<br />\n<br />\n<span style="color: rgb(34\, 34\, 34)\; font-family: Calibri\; font-size: 14.6667px\; background-color: rgb(255\, 255\, 255)\;">Thursday\, January 23\, 2020 4:00 PM-5:00 PM America/New_York.</span>\n\n<div>&nbsp\;</div>\n\n<div><a data-saferedirecturl="https://www.google.com/url?q=https://centralholidays.my.webex.com/centralholidays.my&amp\;source=gmail&amp\;ust=1579360577116000&amp\;usg=AFQjCNFh_CUmMIRHSLZAmq6oFpstu3Xl8w" href="https://centralholidays.my.webex.com/centralholidays.my" style="color: rgb(17\, 85\, 204)\; font-family: Calibri\; font-size: 14.6667px\; background-color: rgb(255\, 255\, 255)\;" target="_blank"><font color="#0563C1"><u>https://centralholidays.my.<wbr />webex.com/centralholidays.my</u></font></a></div>\n<br />\n<span style="color: rgb(34\, 34\, 34)\; font-family: Arial\; font-size: 12.6667px\; background-color: rgb(255\, 255\, 255)\;">Meeting number (access code): 622 560 371<br />\nMeeting password: chtg<br />\n<br />\nJoin by phone<br />\nTap to call from a mobile device&nbsp\;<br />\n+1-646-992-2010 United States Toll (New York City)<br />\n<br />\nJoin from video system or applicaiton<br />\nDial 622560371@centralholidays.my.webex.com<br />\nYou can also dial 173.243.2.68 and enter your meeting number (above)&nbsp\;<br />\n<br />\nJoin using Microsoft Lync or Microsoft Skype for Business<br />\nDial 622560371.centralholidays.my@lync.webex.com<br />\n<br />\nNeed helf? Go to http://help.webex.com</span>\n\n<h2 style="font-style:italic\;"><span style="font-size:18px\;"><big><span dir="rtl"><tt><b style="color: rgb(34\, 34\, 34)\; font-family: Arial\; font-size: 9.33333px\; background-color: rgb(255\, 255\, 255)\;"><span style="font-family:arial\;">&nbsp\;</span></b></tt></span></big></span></h2>\n
LOCATION:
UID:e.2132.522
SEQUENCE:3
DTSTAMP:20260424T081928Z
URL:https://business.huntingdonchamber.com/events/details/south-africa-webinar-522
END:VEVENT

END:VCALENDAR
