BEGIN:VCALENDAR
VERSION:2.0
PRODID:-//ChamberMaster//Event Calendar 2.0//EN
METHOD:PUBLISH
X-PUBLISHED-TTL:P3D
REFRESH-INTERVAL:P3D
CALSCALE:GREGORIAN
BEGIN:VEVENT
DTSTART:20171207T220000Z
DTEND:20171208T000000Z
X-MICROSOFT-CDO-ALLDAYEVENT:FALSE
SUMMARY:The Inn at Solvang Business After Hours
DESCRIPTION:The Inn at Solvang will be celebrating their 25 year business anniversay in 2018! The home itself will be celebrating it's 80 year anniversary! They would love to have you come celebrate with them. They will be catering the event and will have wine and non-alcoholic beverages available. \n\n\n\nThe Inn at Solvang has an exceptional rating on Booking.com (9.9) and 5 stars on Trip Advisor for 10 years running now! Come see what all the buzz is about and celebrate the holidays and their anniversary with us!
X-ALT-DESC;FMTTYPE=text/html:The Inn at Solvang will be celebrating their 25 year business anniversay in 2018! The home itself will be celebrating it&#39\;s 80 year anniversary! They would love to have you come celebrate with them. They will be catering the event and will have wine and non-alcoholic beverages available.&nbsp\;<br />\n<br />\nThe Inn at Solvang&nbsp\;has an exceptional rating on Booking.com (9.9) and 5 stars on Trip Advisor for 10 years running now! Come see what all the buzz is about and celebrate the holidays and their anniversary with us!&nbsp\;
LOCATION:The Inn at Solvang 10611 Standing Stone Road Huntingdon\, PA 16652
UID:e.2132.446
SEQUENCE:3
DTSTAMP:20260425T174537Z
URL:https://business.huntingdonchamber.com/events/details/the-inn-at-solvang-business-after-hours-446
END:VEVENT

END:VCALENDAR
