BEGIN:VCALENDAR
VERSION:2.0
PRODID:-//ChamberMaster//Event Calendar 2.0//EN
METHOD:PUBLISH
X-PUBLISHED-TTL:P3D
REFRESH-INTERVAL:P3D
CALSCALE:GREGORIAN
BEGIN:VEVENT
DTSTART:20180315T200000Z
DTEND:20180315T210000Z
X-MICROSOFT-CDO-ALLDAYEVENT:FALSE
SUMMARY:Welcome M.A.T.
DESCRIPTION:Please join us for our Welcome M.A.T. (meet and train)\n\n\n\nNew members are encouraged to attend to learn about the Chamber and meet other members. \n\n\n\nLongtime members are encouraged to attend to hear about things happening with the Chamber and also to help us welcome our new members. \n\n\n\nProspective members are invited to attend.
X-ALT-DESC;FMTTYPE=text/html:Please join us for our Welcome M.A.T. (meet and train)<br />\n<br />\nNew members are encouraged to attend to learn about the Chamber and meet other members.&nbsp\;<br />\n<br />\nLongtime members are encouraged to attend to hear about things happening with the Chamber and also to help us welcome our new members.&nbsp\;<br />\n<br />\nProspective members are invited to attend.&nbsp\;
LOCATION:AristaCare at Huntingdon Park located at 1229 Warm Springs Avenue\, Huntingdon\, PA
UID:e.2132.453
SEQUENCE:3
DTSTAMP:20260425T134301Z
URL:https://business.huntingdonchamber.com/events/details/welcome-m-a-t-453
END:VEVENT

END:VCALENDAR
