BEGIN:VCALENDAR
VERSION:2.0
PRODID:-//ChamberMaster//Event Calendar 2.0//EN
METHOD:PUBLISH
X-PUBLISHED-TTL:P3D
REFRESH-INTERVAL:P3D
CALSCALE:GREGORIAN
BEGIN:VEVENT
DTSTART:20191114T210000Z
DTEND:20191114T220000Z
X-MICROSOFT-CDO-ALLDAYEVENT:FALSE
SUMMARY:Welcome M.A.T. at Lake Raystown Resort\, Lodge\, & Conference Center
DESCRIPTION:Please join us as we roll out the Welcome M.A.T. (meet and train) for our new members. \n\n\n\nNew members are encouraged to attend to learn about the Chamber and meet other members. \n\n\n\nLongtime members are encouraged to attend to hear about things happening with the Chamber and also to help welcome our new members. \n\n\n\nProspective members are invited to attend.
X-ALT-DESC;FMTTYPE=text/html:Please join us as we roll out the Welcome M.A.T. (meet and train) for our new members.&nbsp\;<br />\n<br />\nNew members are encouraged to attend to learn about the Chamber and meet other members.&nbsp\;<br />\n<br />\nLongtime members are encouraged to attend to hear about things happening with the Chamber and also to help welcome our new members.&nbsp\;<br />\n<br />\nProspective members are invited to attend.&nbsp\;
LOCATION:3101 Chipmunk Crossing Entriken\, PA 11638
UID:e.2132.516
SEQUENCE:3
DTSTAMP:20260424T110033Z
URL:https://business.huntingdonchamber.com/events/details/welcome-m-a-t-at-lake-raystown-resort-lodge-conference-center-516
END:VEVENT

END:VCALENDAR
